BEGIN:VCALENDAR
VERSION:2.0
PRODID:-//Symphony Orchestra Guild of Decatur - ECPv6.15.13.1//NONSGML v1.0//EN
CALSCALE:GREGORIAN
METHOD:PUBLISH
X-ORIGINAL-URL:https://symphonyguildofdecatur.org
X-WR-CALDESC:Events for Symphony Orchestra Guild of Decatur
REFRESH-INTERVAL;VALUE=DURATION:PT1H
X-Robots-Tag:noindex
X-PUBLISHED-TTL:PT1H
BEGIN:VTIMEZONE
TZID:America/Chicago
BEGIN:DAYLIGHT
TZOFFSETFROM:-0600
TZOFFSETTO:-0500
TZNAME:CDT
DTSTART:20200308T080000
END:DAYLIGHT
BEGIN:STANDARD
TZOFFSETFROM:-0500
TZOFFSETTO:-0600
TZNAME:CST
DTSTART:20201101T070000
END:STANDARD
BEGIN:DAYLIGHT
TZOFFSETFROM:-0600
TZOFFSETTO:-0500
TZNAME:CDT
DTSTART:20210314T080000
END:DAYLIGHT
BEGIN:STANDARD
TZOFFSETFROM:-0500
TZOFFSETTO:-0600
TZNAME:CST
DTSTART:20211107T070000
END:STANDARD
BEGIN:DAYLIGHT
TZOFFSETFROM:-0600
TZOFFSETTO:-0500
TZNAME:CDT
DTSTART:20220313T080000
END:DAYLIGHT
BEGIN:STANDARD
TZOFFSETFROM:-0500
TZOFFSETTO:-0600
TZNAME:CST
DTSTART:20221106T070000
END:STANDARD
END:VTIMEZONE
BEGIN:VEVENT
DTSTART;TZID=America/Chicago:20210417T193000
DTEND;TZID=America/Chicago:20210417T203000
DTSTAMP:20260421T121124
CREATED:20210216T004520Z
LAST-MODIFIED:20210305T210500Z
UID:1238-1618687800-1618691400@symphonyguildofdecatur.org
SUMMARY:Masterworks V
DESCRIPTION:BLOCH Concerto Grosso\nMillikin University student winners of the annual Concerto and Aria Competition\, Victor Lawton\, Clarinet\, and Megan Devine\, Percussion\, will make their solo debuts with the MDSO on Saturday\, April 17th at 7:30 p.m. \nFREE LIVE STREAM CONCERT \nFollow us on Facebook for Updates on how to attend.
URL:https://symphonyguildofdecatur.org/event/masterworks-v/
LOCATION:Kirkland Fine Arts Center\, 1184 W Main St\, Decatur\, IL\, 62522\, United States
CATEGORIES:Millikin-Decatur Symphony Orchestra (MDSO)
ATTACH;FMTTYPE=image/jpeg:https://symphonyguildofdecatur.org/wp-content/uploads/2021/02/MDSO-Masterworks-V-4_17_21-1280x720-1.jpg
ORGANIZER;CN="Millikin-Decatur Symphony Orchestra":MAILTO:info@symphonyguildofdecatur.org
END:VEVENT
END:VCALENDAR